BEGIN:VCALENDAR
VERSION:2.0
PRODID:-//https://www.lifemartialartscenter.com//NONSGML kigkonsult.se iCalcreator 2.41.71//
CALSCALE:GREGORIAN
METHOD:PUBLISH
UID:35313166-3862-4634-b836-363334623061
X-WR-CALNAME:JCal Pro Calendar
X-WR-CALDESC:Your online events calendar
X-WR-TIMEZONE:America/Chicago
BEGIN:VTIMEZONE
TZID:America/Chicago
TZUNTIL:20271107T070000Z
BEGIN:STANDARD
TZNAME:CST
DTSTART:20251102T020000
TZOFFSETFROM:-0500
TZOFFSETTO:-0600
RDATE:20261101T020000
END:STANDARD
BEGIN:DAYLIGHT
TZNAME:CDT
DTSTART:20260308T020000
TZOFFSETFROM:-0600
TZOFFSETTO:-0500
RDATE:20270314T020000
END:DAYLIGHT
END:VTIMEZONE
BEGIN:VEVENT
UID:20230916T090000UTC-6259PTIVNl@https://www.lifemartialartscenter.com/
DTSTAMP:20260419T180139Z
CATEGORIES:Rank Exam
DESCRIPTION:<p>Via Health Fitness and Enrichment Center</p>\n<p>Mobile\, AL
 </p>
DTSTART;TZID=America/Chicago:20230915T180000
DTEND;TZID=America/Chicago:20230915T210000
SUMMARY:WTSDA Region 6 Fall Dan Exam 2023
URL:https://www.lifemartialartscenter.com/events-calendar/88-rank-exam/1523
 -wtsda-region-6-fall-dan-exam-2023
X-ALT-DESC;FMTTYPE=TEXT/HTML:<p>Via Health Fitness and Enrichment Center</p
 >\n<p>Mobile\, AL</p>
END:VEVENT
BEGIN:VEVENT
UID:20230916T090000UTC-5608gV85gN@https://www.lifemartialartscenter.com/
DTSTAMP:20260419T180139Z
CATEGORIES:Tournament
DESCRIPTION:<p>Via Health Fitness and Enrichment Center</p>\n<p>Mobile\, AL
 </p>
DTSTART;TZID=America/Chicago:20230916T090000
DTEND;TZID=America/Chicago:20230916T160000
SUMMARY:WTSDA Region 6 Fall Tournament 2023
URL:https://www.lifemartialartscenter.com/events-calendar/90-tournament/152
 2-wtsda-region-6-fall-tournament-2023
X-ALT-DESC;FMTTYPE=TEXT/HTML:<p>Via Health Fitness and Enrichment Center</p
 >\n<p>Mobile\, AL</p>
END:VEVENT
BEGIN:VEVENT
UID:20230617T160000UTC-1220ijpxkU@https://www.lifemartialartscenter.com/
DTSTAMP:20260419T180139Z
CATEGORIES:LMAC
CATEGORIES:Rank Exam
DTSTART;TZID=America/Chicago:20230624T160000
DTEND;TZID=America/Chicago:20230624T180000
EXDATE;TZID=America/Chicago:20230923T160000
RRULE:FREQ=MONTHLY;UNTIL=20231231T060000Z;INTERVAL=3;BYDAY=SA;BYSETPOS=3
SUMMARY:Gup Rank Exam
URL:https://www.lifemartialartscenter.com/events-calendar/93-lmac/1324-gup-
 rank-exam
END:VEVENT
BEGIN:VEVENT
UID:20230617T160000UTC-1220ijpxkU@https://www.lifemartialartscenter.com/
DTSTAMP:20260419T180139Z
CATEGORIES:LMAC
CATEGORIES:Rank Exam
DTSTART;TZID=America/Chicago:20230923T160000
DTEND;TZID=America/Chicago:20230923T180000
SUMMARY:Gup Rank Exam
URL:https://www.lifemartialartscenter.com/events-calendar/93-lmac/1474-gup-
 rank-exam
END:VEVENT
END:VCALENDAR
