BEGIN:VCALENDAR
VERSION:2.0
PRODID:-//https://www.lifemartialartscenter.com//NONSGML kigkonsult.se iCalcreator 2.41.71//
CALSCALE:GREGORIAN
METHOD:PUBLISH
UID:61336238-6361-4762-a361-623465313239
X-WR-CALNAME:JCal Pro Calendar
X-WR-CALDESC:Your online events calendar
X-WR-TIMEZONE:America/Chicago
BEGIN:VTIMEZONE
TZID:America/Chicago
TZUNTIL:20271107T070000Z
BEGIN:STANDARD
TZNAME:CST
DTSTART:20251102T020000
TZOFFSETFROM:-0500
TZOFFSETTO:-0600
RDATE:20261101T020000
END:STANDARD
BEGIN:DAYLIGHT
TZNAME:CDT
DTSTART:20260308T020000
TZOFFSETFROM:-0600
TZOFFSETTO:-0500
RDATE:20270314T020000
END:DAYLIGHT
END:VTIMEZONE
BEGIN:VEVENT
UID:20260604T100000UTC-160803PJ4i@https://www.lifemartialartscenter.com/
DTSTAMP:20260419T180327Z
CATEGORIES:WTSDA
CATEGORIES:Training Clinic
DESCRIPTION:<p>Elizabethtown University\, Pennsylvania</p>
DTSTART;TZID=America/Chicago:20260604T100000
DTEND;TZID=America/Chicago:20260607T115800
SUMMARY:WTSDA 2026 Masters Clinic
URL:https://www.lifemartialartscenter.com/events-calendar/92-wtsda/9349-wts
 da-2026-masters-clinic
X-ALT-DESC;FMTTYPE=TEXT/HTML:<p>Elizabethtown University\, Pennsylvania</p>
END:VEVENT
END:VCALENDAR
