BEGIN:VCALENDAR
VERSION:2.0
PRODID:-//https://www.lifemartialartscenter.com//NONSGML kigkonsult.se iCalcreator 2.41.71//
CALSCALE:GREGORIAN
METHOD:PUBLISH
UID:62303134-6431-4965-b731-373336313033
X-WR-CALNAME:JCal Pro Calendar
X-WR-CALDESC:Your online events calendar
X-WR-TIMEZONE:America/Chicago
BEGIN:VTIMEZONE
TZID:America/Chicago
TZUNTIL:20271107T070000Z
BEGIN:STANDARD
TZNAME:CST
DTSTART:20251102T020000
TZOFFSETFROM:-0500
TZOFFSETTO:-0600
RDATE:20261101T020000
END:STANDARD
BEGIN:DAYLIGHT
TZNAME:CDT
DTSTART:20260308T020000
TZOFFSETFROM:-0600
TZOFFSETTO:-0500
RDATE:20270314T020000
END:DAYLIGHT
END:VTIMEZONE
BEGIN:VEVENT
UID:20240711T140000UTC-4001eDxnvD@https://www.lifemartialartscenter.com/
DTSTAMP:20260419T181151Z
CATEGORIES:WTSDA
CATEGORIES:Tournament
DESCRIPTION:<p>Click the link below for details:</p>\n<p><a href='directors
 -blog/wtsda-world-championship-2024' target='_blank' rel='noopener'>https:
 //www.lifemartialartscenter.com/directors-blog/wtsda-world-championship-20
 24</a></p>
DTSTART;TZID=America/Chicago:20240711T140000
DTEND;TZID=America/Chicago:20240714T151300
SUMMARY:WTSDA World Tournament 2024
URL:https://www.lifemartialartscenter.com/events-calendar/92-wtsda/3150-wts
 da-world-tournament-2024
X-ALT-DESC;FMTTYPE=TEXT/HTML:<p>Click the link below for details:</p>\n<p><
 a href='directors-blog/wtsda-world-championship-2024' target='_blank' rel=
 'noopener'>https://www.lifemartialartscenter.com/directors-blog/wtsda-worl
 d-championship-2024</a></p>
END:VEVENT
END:VCALENDAR
