BEGIN:VCALENDAR
VERSION:2.0
PRODID:-//https://www.lifemartialartscenter.com//NONSGML kigkonsult.se iCalcreator 2.41.71//
CALSCALE:GREGORIAN
METHOD:PUBLISH
UID:36326238-3138-4530-b136-323665396261
X-WR-CALNAME:JCal Pro Calendar
X-WR-CALDESC:Your online events calendar
X-WR-TIMEZONE:America/Chicago
BEGIN:VTIMEZONE
TZID:America/Chicago
TZUNTIL:20271107T070000Z
BEGIN:STANDARD
TZNAME:CST
DTSTART:20251102T020000
TZOFFSETFROM:-0500
TZOFFSETTO:-0600
RDATE:20261101T020000
END:STANDARD
BEGIN:DAYLIGHT
TZNAME:CDT
DTSTART:20260308T020000
TZOFFSETFROM:-0600
TZOFFSETTO:-0500
RDATE:20270314T020000
END:DAYLIGHT
END:VTIMEZONE
BEGIN:VEVENT
UID:20230916T090000UTC-1927hJz5Gd@https://www.lifemartialartscenter.com/
DTSTAMP:20260419T181151Z
CATEGORIES:Tournament
DESCRIPTION:<p>Click link below for details:</p>\n<p><a href='index.php?opt
 ion=com_content&amp\;view=article&amp\;id=141&amp\;catid=24'>WTSDA Region 
 6 Spring Tournament 2024</a></p>
DTSTART;TZID=America/Chicago:20240420T090000
DTEND;TZID=America/Chicago:20240420T160000
SUMMARY:WTSDA Region 6 Spring Tournament 2024
URL:https://www.lifemartialartscenter.com/events-calendar/90-tournament/314
 9-wtsda-region-6-spring-tournament-2024
X-ALT-DESC;FMTTYPE=TEXT/HTML:<p>Click link below for details:</p>\n<p><a hr
 ef='index.php?option=com_content&amp\;view=article&amp\;id=141&amp\;catid=
 24'>WTSDA Region 6 Spring Tournament 2024</a></p>
END:VEVENT
END:VCALENDAR
