BEGIN:VCALENDAR
VERSION:2.0
PRODID:-//https://www.lifemartialartscenter.com//NONSGML kigkonsult.se iCalcreator 2.41.71//
CALSCALE:GREGORIAN
METHOD:PUBLISH
UID:38343336-3631-4036-b938-323838633436
X-WR-CALNAME:JCal Pro Calendar
X-WR-CALDESC:Your online events calendar
X-WR-TIMEZONE:America/Chicago
BEGIN:VTIMEZONE
TZID:America/Chicago
TZUNTIL:20271107T070000Z
BEGIN:STANDARD
TZNAME:CST
DTSTART:20251102T020000
TZOFFSETFROM:-0500
TZOFFSETTO:-0600
RDATE:20261101T020000
END:STANDARD
BEGIN:DAYLIGHT
TZNAME:CDT
DTSTART:20260308T020000
TZOFFSETFROM:-0600
TZOFFSETTO:-0500
RDATE:20270314T020000
END:DAYLIGHT
END:VTIMEZONE
BEGIN:VEVENT
UID:20231028T160000UTC-2921w4zWHI@https://www.lifemartialartscenter.com/
DTSTAMP:20260419T175119Z
CATEGORIES:Training Clinic
DESCRIPTION:<p style='text-align: center\;'><span style='font-size: 18px\;'
 ><strong>**  TENTATIVE CHRISTMAS CLASS -&gt\; CALL TO VERIFY  **</strong><
 /span></p>\n<p>Additional training for CORE\, EXTREME and WARRIOR Skillz g
 roups.</p>\n<p>Various topics rotate through each week\, based on what nee
 ds are identified by instructors.</p>\n<p>Contact us to verify each class.
 </p>
DTSTART;TZID=America/Chicago:20251227T160000
DTEND;TZID=America/Chicago:20251227T160000
SUMMARY:Super Saturday Training
URL:https://www.lifemartialartscenter.com/events-calendar/89-training-clini
 c/8431-super-saturday-training
X-ALT-DESC;FMTTYPE=TEXT/HTML:<p style='text-align: center\;'><span style='f
 ont-size: 18px\;'><strong>**  TENTATIVE CHRISTMAS CLASS -&gt\; CALL TO VER
 IFY  **</strong></span></p>\n<p>Additional training for CORE\, EXTREME and
  WARRIOR Skillz groups.</p>\n<p>Various topics rotate through each week\, 
 based on what needs are identified by instructors.</p>\n<p>Contact us to v
 erify each class.</p>
END:VEVENT
END:VCALENDAR
