BEGIN:VCALENDAR
VERSION:2.0
PRODID:-//https://www.lifemartialartscenter.com//NONSGML kigkonsult.se iCalcreator 2.41.71//
CALSCALE:GREGORIAN
METHOD:PUBLISH
UID:62346332-6230-4036-b533-343533613664
X-WR-CALNAME:JCal Pro Calendar
X-WR-CALDESC:Your online events calendar
X-WR-TIMEZONE:America/Chicago
BEGIN:VTIMEZONE
TZID:America/Chicago
TZUNTIL:20271107T070000Z
BEGIN:STANDARD
TZNAME:CST
DTSTART:20251102T020000
TZOFFSETFROM:-0500
TZOFFSETTO:-0600
RDATE:20261101T020000
END:STANDARD
BEGIN:DAYLIGHT
TZNAME:CDT
DTSTART:20260308T020000
TZOFFSETFROM:-0600
TZOFFSETTO:-0500
RDATE:20270314T020000
END:DAYLIGHT
END:VTIMEZONE
BEGIN:VEVENT
UID:20230602T150000UTC-8554s28M6L@https://www.lifemartialartscenter.com/
DTSTAMP:20260419T195628Z
CATEGORIES:WTSDA Region 6
CATEGORIES:Training Clinic
DTSTART;TZID=America/Chicago:20230602T150000
DTEND;TZID=America/Chicago:20230604T113000
SUMMARY:2023 WTSDA Region 6 Dan Camp
URL:https://www.lifemartialartscenter.com/events-calendar/91-wtsda-region-6
 /712-2023-wtsda-region-6-dan-camp
END:VEVENT
END:VCALENDAR
