BEGIN:VCALENDAR
VERSION:2.0
PRODID:-//https://www.lifemartialartscenter.com//NONSGML kigkonsult.se iCalcreator 2.41.71//
CALSCALE:GREGORIAN
METHOD:PUBLISH
UID:33633136-3165-4164-a565-616135333230
X-WR-CALNAME:JCal Pro Calendar
X-WR-CALDESC:Your online events calendar
X-WR-TIMEZONE:America/Chicago
BEGIN:VTIMEZONE
TZID:America/Chicago
TZUNTIL:20271107T070000Z
BEGIN:STANDARD
TZNAME:CST
DTSTART:20251102T020000
TZOFFSETFROM:-0500
TZOFFSETTO:-0600
RDATE:20261101T020000
END:STANDARD
BEGIN:DAYLIGHT
TZNAME:CDT
DTSTART:20260308T020000
TZOFFSETFROM:-0600
TZOFFSETTO:-0500
RDATE:20270314T020000
END:DAYLIGHT
END:VTIMEZONE
BEGIN:VEVENT
UID:20230916T090000UTC-5608gV85gN@https://www.lifemartialartscenter.com/
DTSTAMP:20260419T164125Z
CATEGORIES:Tournament
CATEGORIES:WTSDA Region 6
DESCRIPTION:<p>Via Health Fitness and Enrichment Center</p>\n<p>Mobile\, AL
 </p>
DTSTART;TZID=America/Chicago:20230916T090000
DTEND;TZID=America/Chicago:20230916T160000
SUMMARY:WTSDA Region 6 Fall Tournament 2023
URL:https://www.lifemartialartscenter.com/events-calendar/90-tournament/152
 2-wtsda-region-6-fall-tournament-2023
X-ALT-DESC;FMTTYPE=TEXT/HTML:<p>Via Health Fitness and Enrichment Center</p
 >\n<p>Mobile\, AL</p>
END:VEVENT
END:VCALENDAR
